BEGIN:VCALENDAR
VERSION:2.0
PRODID:-//West Seattle Sportsmen&#039;s Club - ECPv4.8.2//NONSGML v1.0//EN
CALSCALE:GREGORIAN
METHOD:PUBLISH
X-WR-CALNAME:West Seattle Sportsmen&#039;s Club
X-ORIGINAL-URL:http://wssportsmen.org
X-WR-CALDESC:Events for West Seattle Sportsmen&#039;s Club
BEGIN:VEVENT
DTSTART;TZID=America/Vancouver:20190604T193000
DTEND;TZID=America/Vancouver:20190604T210000
DTSTAMP:20260421T101550
CREATED:20190221T165321Z
LAST-MODIFIED:20190529T204428Z
UID:17187-1559676600-1559682000@wssportsmen.org
SUMMARY:Member's Meeting/Sportsmen Potluck
DESCRIPTION:We will be having a club meeting at the range on the first Tuesday of the month at 7:30 pm. This months meeting will include a Potluck! \nMain course——PULLED PORK and CORN BREAD \nSuggested items for pot luck \nbeans \nbread \ncorn on the cob \ndessert \nfruit—-watermelon—melon—berries \nsalad—-mac and cheese—potato—green \nwhat ever \nBring your own water or pop \n
URL:http://wssportsmen.org/event/members-meeting-2-2019-06-04/
CATEGORIES:Club,Events
END:VEVENT
END:VCALENDAR