BEGIN:VCALENDAR
VERSION:2.0
PRODID:-//West Seattle Sportsmen&#039;s Club - ECPv4.8.2//NONSGML v1.0//EN
CALSCALE:GREGORIAN
METHOD:PUBLISH
X-WR-CALNAME:West Seattle Sportsmen&#039;s Club
X-ORIGINAL-URL:http://wssportsmen.org
X-WR-CALDESC:Events for West Seattle Sportsmen&#039;s Club
BEGIN:VEVENT
DTSTART;TZID=America/Vancouver:20250401T183000
DTEND;TZID=America/Vancouver:20250401T203000
DTSTAMP:20260421T084820
CREATED:20190221T165321Z
LAST-MODIFIED:20250829T035449Z
UID:19811-1743532200-1743539400@wssportsmen.org
SUMMARY:Member's Meeting
DESCRIPTION:Monthly Membership Meeting. \n
URL:http://wssportsmen.org/event/members-meeting-2/2025-04-01/
CATEGORIES:Club,Events
END:VEVENT
END:VCALENDAR