BEGIN:VCALENDAR
VERSION:2.0
PRODID:-//West Seattle Sportsmen&#039;s Club - ECPv4.8.2//NONSGML v1.0//EN
CALSCALE:GREGORIAN
METHOD:PUBLISH
X-WR-CALNAME:West Seattle Sportsmen&#039;s Club
X-ORIGINAL-URL:http://wssportsmen.org
X-WR-CALDESC:Events for West Seattle Sportsmen&#039;s Club
BEGIN:VEVENT
DTSTART;VALUE=DATE:20190309
DTEND;VALUE=DATE:20190311
DTSTAMP:20260421T085819
CREATED:20190220T172000Z
LAST-MODIFIED:20190220T172009Z
UID:17051-1552089600-1552262399@wssportsmen.org
SUMMARY:NRA International Pistol Sectional
DESCRIPTION:
URL:http://wssportsmen.org/event/nra-international-pistol-section/
END:VEVENT
END:VCALENDAR