BEGIN:VCALENDAR
VERSION:2.0
PRODID:-//West Seattle Sportsmen&#039;s Club - ECPv4.8.2//NONSGML v1.0//EN
CALSCALE:GREGORIAN
METHOD:PUBLISH
X-WR-CALNAME:West Seattle Sportsmen&#039;s Club
X-ORIGINAL-URL:http://wssportsmen.org
X-WR-CALDESC:Events for West Seattle Sportsmen&#039;s Club
BEGIN:VEVENT
DTSTART;TZID=America/Vancouver:20181114T193000
DTEND;TZID=America/Vancouver:20181114T210000
DTSTAMP:20260421T110807
CREATED:20181114T033338Z
LAST-MODIFIED:20181114T033338Z
UID:16526-1542223800-1542229200@wssportsmen.org
SUMMARY:Turkey Shoot Potluck
DESCRIPTION:Come to the Range Wednesday night at 7:30pm for a fun shooting competition.  The winners of the skill contest and the luck contest will each win a turkey! \nThis is also a potluck so bring some food to share. \n
URL:http://wssportsmen.org/event/turkey-shoot-potluck-2/
END:VEVENT
END:VCALENDAR